BEGIN:VCALENDAR
VERSION:2.0
PRODID:-//Center for Leadership and Service - ECPv4.5.6//NONSGML v1.0//EN
CALSCALE:GREGORIAN
METHOD:PUBLISH
X-WR-CALNAME:Center for Leadership and Service
X-ORIGINAL-URL:https://cls.highline.edu
X-WR-CALDESC:Events for Center for Leadership and Service
BEGIN:VEVENT
DTSTART;TZID=America/Los_Angeles:20241031T100000
DTEND;TZID=America/Los_Angeles:20241031T130000
DTSTAMP:20260421T190021
CREATED:20241021T220043Z
LAST-MODIFIED:20241021T220043Z
UID:4250-1730368800-1730379600@cls.highline.edu
SUMMARY:10:00 am - Dia De Los Muertos
DESCRIPTION:Come celebrate Dia de Muertos with us as we honor our passed loved ones. Enjoy crafts\, pan dulce\, hot chocolate\, and a viewing of the ofrendas presented to you by the College Success Foundation\, the Center for Cultural and Inclusive Excellence & Juntos. \n
URL:https://cls.highline.edu/event/1000-dia-de-los-muertos/
ORGANIZER;CN="CCIE":MAILTO:ccie@highline.edu
END:VEVENT
END:VCALENDAR