BEGIN:VCALENDAR
VERSION:2.0
PRODID:-//Center for Leadership and Service - ECPv4.5.6//NONSGML v1.0//EN
CALSCALE:GREGORIAN
METHOD:PUBLISH
X-WR-CALNAME:Center for Leadership and Service
X-ORIGINAL-URL:https://cls.highline.edu
X-WR-CALDESC:Events for Center for Leadership and Service
BEGIN:VEVENT
DTSTART;TZID=America/Los_Angeles:20241023T133000
DTEND;TZID=America/Los_Angeles:20241023T150000
DTSTAMP:20260422T003046
CREATED:20241009T153310Z
LAST-MODIFIED:20241009T153310Z
UID:4135-1729690200-1729695600@cls.highline.edu
SUMMARY:1:30 pm - Love Shouldn't Hurt
DESCRIPTION:Join the Inter-Cultural Center Peer Facilitators for a conversation to learn about the warning signs of domestic violence\, how to support those affected\, and how to promote a safe and healthy community. \n
URL:https://cls.highline.edu/event/130-pm-love-shouldnt-hurt/
ORGANIZER;CN="Inter-Cultural%20Center%20Peer%20Facilitators":MAILTO:icc@highline.edu
END:VEVENT
END:VCALENDAR