BEGIN:VCALENDAR
VERSION:2.0
PRODID:-//Center for Leadership and Service - ECPv4.5.6//NONSGML v1.0//EN
CALSCALE:GREGORIAN
METHOD:PUBLISH
X-WR-CALNAME:Center for Leadership and Service
X-ORIGINAL-URL:https://cls.highline.edu
X-WR-CALDESC:Events for Center for Leadership and Service
BEGIN:VEVENT
DTSTART;TZID=America/Los_Angeles:20231114T143000
DTEND;TZID=America/Los_Angeles:20231114T163000
DTSTAMP:20260419T195352
CREATED:20231103T185251Z
LAST-MODIFIED:20231103T185318Z
UID:3370-1699972200-1699979400@cls.highline.edu
SUMMARY:2:30 pm - Henna Around the World
DESCRIPTION:As a part of International Education Week\, the Global Student Ambassadors (GSA) are hosting a Henna Around the World Event! Come get a Henna tattoo on Tuesday\, November 14th from 2:30 – 4:30 pm in Building 8 on the 1st floor. Questions? Contact GSA@highline.edu for more information.\n\nIf you require accommodations due to a disability\, please contact Access Services at (206) 592-3857 (voice) or by email at access@highline.edu. Advance notice is necessary to arrange for some accessibility needs.\n
URL:https://cls.highline.edu/event/230-p-m-henna-around-world/
ORGANIZER;CN="Global%20Student%20Ambassadors":MAILTO:gsa@highline.edu
END:VEVENT
END:VCALENDAR