BEGIN:VCALENDAR
VERSION:2.0
PRODID:-//Center for Leadership and Service - ECPv4.5.6//NONSGML v1.0//EN
CALSCALE:GREGORIAN
METHOD:PUBLISH
X-WR-CALNAME:Center for Leadership and Service
X-ORIGINAL-URL:https://cls.highline.edu
X-WR-CALDESC:Events for Center for Leadership and Service
BEGIN:VEVENT
DTSTART;TZID=America/Los_Angeles:20241024T180000
DTEND;TZID=America/Los_Angeles:20241024T200000
DTSTAMP:20260421T223631
CREATED:20241009T154618Z
LAST-MODIFIED:20241009T154640Z
UID:4140-1729792800-1729800000@cls.highline.edu
SUMMARY:6:00 pm - Drag Bingo
DESCRIPTION:Join us for an unforgettable evening of Bingo\, Drag Performances and tunes\, hosted by Brandi Marxxx! Tacoma’s non binary Diva and resident Trophy wife! Featuring dazzling performances\, interactive bingo games\, and tunes to keep the energy high! Presented by the Center for Cultural and Inclusive Excellence. You won’t want to miss this! \nHosted by the Center for Cultural & Inclusive Excellence in collaboration with the Q Center and LGBTQIA Task Force. \n
URL:https://cls.highline.edu/event/600-pm-drag-bingo/
ORGANIZER;CN="CCIE":MAILTO:ccie@highline.edu
END:VEVENT
END:VCALENDAR