BEGIN:VCALENDAR
VERSION:2.0
PRODID:-//Center for Leadership and Service - ECPv4.5.6//NONSGML v1.0//EN
CALSCALE:GREGORIAN
METHOD:PUBLISH
X-WR-CALNAME:Center for Leadership and Service
X-ORIGINAL-URL:https://cls.highline.edu
X-WR-CALDESC:Events for Center for Leadership and Service
BEGIN:VEVENT
DTSTART;TZID=America/Los_Angeles:20241106T090000
DTEND;TZID=America/Los_Angeles:20241106T170000
DTSTAMP:20260421T140415
CREATED:20241030T234545Z
LAST-MODIFIED:20241030T234545Z
UID:4288-1730883600-1730912400@cls.highline.edu
SUMMARY:9:00 am - Post Election Day Community Space
DESCRIPTION:Need space to process post-election day? The Center Staff will be available to help you unwind\, reflect\, and be in community. Join us mid-day for meditation with the Counseling Center. Art supplies\, community reflection\, and light snacks will be available. Questions? Contact ccie@highline.edu for more information. \n
URL:https://cls.highline.edu/event/900-post-election-day-community-space/
ORGANIZER;CN="CLS%20%26amp%3B%20CCIE":MAILTO:cls@highline.edu
END:VEVENT
END:VCALENDAR