BEGIN:VCALENDAR
VERSION:2.0
PRODID:-//Center for Leadership and Service - ECPv4.5.6//NONSGML v1.0//EN
CALSCALE:GREGORIAN
METHOD:PUBLISH
X-WR-CALNAME:Center for Leadership and Service
X-ORIGINAL-URL:https://cls.highline.edu
X-WR-CALDESC:Events for Center for Leadership and Service
BEGIN:VEVENT
DTSTART;TZID=America/Los_Angeles:20231018T133000
DTEND;TZID=America/Los_Angeles:20231018T143000
DTSTAMP:20260421T003658
CREATED:20231018T172036Z
LAST-MODIFIED:20231030T184057Z
UID:3174-1697635800-1697639400@cls.highline.edu
SUMMARY:1:30 pm - ASHC Council Meeting
DESCRIPTION:The Associated Students of Highline College (ASHC) is the student government or advocacy organization for Highline students\, which represents students’ interests and concerns to the college administration\, faculty\, staff\, and the greater community. \nQuestions? Contact ASHC at ashc@highline.edu \n
URL:https://cls.highline.edu/event/ashc-council-meeting/
END:VEVENT
END:VCALENDAR