BEGIN:VCALENDAR
VERSION:2.0
PRODID:-//Center for Leadership and Service - ECPv4.5.6//NONSGML v1.0//EN
CALSCALE:GREGORIAN
METHOD:PUBLISH
X-WR-CALNAME:Center for Leadership and Service
X-ORIGINAL-URL:https://cls.highline.edu
X-WR-CALDESC:Events for Center for Leadership and Service
BEGIN:VEVENT
DTSTART;TZID=America/Los_Angeles:20231102T110000
DTEND;TZID=America/Los_Angeles:20231102T140000
DTSTAMP:20260420T125838
CREATED:20231018T172544Z
LAST-MODIFIED:20231026T223504Z
UID:3183-1698922800-1698933600@cls.highline.edu
SUMMARY:Highline's Day of the Dead
DESCRIPTION:Join us for a Day of the Dead celebration! Let’s mingle and talk about loss and longing through the perspective of the Aztecs who celebrated life in its embrace of death! Everyone can participate in making a Highline community altar with cozy drinks and sweet pan dulce! \nThis event will be in the ICC which is located in Building 8\, Room 204. \n  \n \n
URL:https://cls.highline.edu/event/highlines-day-dead/
END:VEVENT
END:VCALENDAR