BEGIN:VCALENDAR
VERSION:2.0
PRODID:-//Center for Leadership and Service - ECPv4.5.6//NONSGML v1.0//EN
CALSCALE:GREGORIAN
METHOD:PUBLISH
X-WR-CALNAME:Center for Leadership and Service
X-ORIGINAL-URL:https://cls.highline.edu
X-WR-CALDESC:Events for Center for Leadership and Service
BEGIN:VEVENT
DTSTART;TZID=America/Los_Angeles:20231102T143000
DTEND;TZID=America/Los_Angeles:20231102T153000
DTSTAMP:20260420T111338
CREATED:20231026T224144Z
LAST-MODIFIED:20231026T224144Z
UID:3281-1698935400-1698939000@cls.highline.edu
SUMMARY:Minecraft Club Meeting
DESCRIPTION:A club for people who love playing Minecraft. We play\, socialize\, and have fun! \n
URL:https://cls.highline.edu/event/minecraft-club-meeting/
ORGANIZER;CN="Minecraft%20Club":MAILTO:elliotbond@students.highline.edu
END:VEVENT
END:VCALENDAR