BEGIN:VCALENDAR
VERSION:2.0
PRODID:-//Center for Leadership and Service - ECPv4.5.6//NONSGML v1.0//EN
CALSCALE:GREGORIAN
METHOD:PUBLISH
X-WR-CALNAME:Center for Leadership and Service
X-ORIGINAL-URL:https://cls.highline.edu
X-WR-CALDESC:Events for Center for Leadership and Service
BEGIN:VEVENT
DTSTART;TZID=America/Los_Angeles:20231109T121500
DTEND;TZID=America/Los_Angeles:20231109T131500
DTSTAMP:20260420T010925
CREATED:20231027T194948Z
LAST-MODIFIED:20231108T172325Z
UID:3305-1699532100-1699535700@cls.highline.edu
SUMMARY:12:15 pm - Postsecondary Club
DESCRIPTION:A group for college students living with various challenges to have a peer navigator\, have opportunities for socializing and networking\, and to have an awesome college experience. \n
URL:https://cls.highline.edu/event/postsecondary-club/
ORGANIZER;CN="Postsecondary%20Club":MAILTO:yonathanberhan@students.highline.edu
END:VEVENT
END:VCALENDAR