BEGIN:VCALENDAR
VERSION:2.0
PRODID:-//Center for Leadership and Service - ECPv4.5.6//NONSGML v1.0//EN
CALSCALE:GREGORIAN
METHOD:PUBLISH
X-WR-CALNAME:Center for Leadership and Service
X-ORIGINAL-URL:https://cls.highline.edu
X-WR-CALDESC:Events for Center for Leadership and Service
BEGIN:VEVENT
DTSTART;TZID=America/Los_Angeles:20231103T140000
DTEND;TZID=America/Los_Angeles:20231103T163000
DTSTAMP:20260420T081345
CREATED:20231026T224415Z
LAST-MODIFIED:20231027T201534Z
UID:3285-1699020000-1699029000@cls.highline.edu
SUMMARY:Table Tennis Club Meeting
DESCRIPTION:Table Tennis Club is for those who aspire to practice and hone their skills within the club and a place to enjoy playing table tennis. \n
URL:https://cls.highline.edu/event/table-tennis-club/
ORGANIZER;CN="Table%20Tennis%20Club":MAILTO:martindavecaoagdan@students.highline.edu
END:VEVENT
END:VCALENDAR